BEGIN:VCALENDAR
VERSION:2.0
PRODID:DPCALENDAR
CALSCALE:GREGORIAN
BEGIN:VTIMEZONE
TZID:America/New_York
X-MICROSOFT-CDO-TZID:10
BEGIN:STANDARD
DTSTART:20251102T060000
TZOFFSETFROM:-0400
TZOFFSETTO:-0500
TZNAME:EST
END:STANDARD
BEGIN:STANDARD
DTSTART:20261101T060000
TZOFFSETFROM:-0400
TZOFFSETTO:-0500
TZNAME:EST
END:STANDARD
BEGIN:DAYLIGHT
DTSTART:20260308T070000
TZOFFSETFROM:-0500
TZOFFSETTO:-0400
TZNAME:EDT
END:DAYLIGHT
END:VTIMEZONE
X-WR-TIMEZONE:America/New_York
BEGIN:VEVENT
DTSTART;TZID=America/New_York:20250116T200000
DTEND;TZID=America/New_York:20250116T210000
UID:A27E51E8-D2E2-4EDE-9BA8-5F4468D0D5C0
SUMMARY:SigTalks: A CEO Sig
CREATED:20250112T000915Z
DTSTAMP:20250112T000915Z
URL:https://streamyard.com/watch/XWe3V6nSXjVj
DESCRIPTION:The New York City and Washington Alumni Chapters are excited to welcome Rich Hume, PENN STATE 1982, as our next speaker. Brother Hume recently retired as the Chief Executive Officer for TD-SYNNEX, a Fortune 100 Company.\N\NWhy Attend? \N\NGain invaluable leadership strategies from a top executive\NLearn how to inspire teams and drive organizational success\NDiscover the impact Sigma Chi had on a brother's personal and professional success\N
X-ALT-DESC;FMTTYPE=text/html:<p>The New York City and Washington Alumni Chapters are excited to welcome Rich Hume, PENN STATE 1982, as our next speaker. Brother Hume recently retired as the Chief Executive Officer for TD-SYNNEX, a Fortune 100 Company.</p><hr id="system-readmore"><p>Why Attend? </p><ul><li>Gain invaluable leadership strategies from a top executive</li><li>Learn how to inspire teams and drive organizational success</li><li>Discover the impact Sigma Chi had on a brother's personal and professional success</li></ul>
LAST-MODIFIED:20250112T000915Z
SEQUENCE:0
X-ACCESS:1
X-HITS:0
X-COLOR:00a3e0
X-SHOW-END-TIME:1
END:VEVENT
BEGIN:VEVENT
DTSTART;TZID=America/New_York:20250206T183000
DTEND;TZID=America/New_York:20250206T213000
UID:601E64F9-BE99-43C4-9D63-2E4300FE4056
SUMMARY:Sigma Chi Alumni Monthly Happy Hour NYC
CREATED:20250104T011333Z
DTSTAMP:20250104T011333Z
URL:https://newyorkalumni.sigmachi.org/events/sigma-chi-alumni-monthly-happy-hour-nyc
DESCRIPTION:Join New York City Sigs for Happy Hour.
X-ALT-DESC;FMTTYPE=text/html:<p>Join New York City Sigs for Happy Hour.</p>
LAST-MODIFIED:20250104T011333Z
SEQUENCE:0
LOCATION:8 East 36th Street\, New York\, New York 10016
GEO:40.74920110;-73.98303820
X-LOCATION-DISPLAYNAME:Slattery's Midtown Pub
X-ACCESS:1
X-HITS:0
X-COLOR:00a3e0
X-SHOW-END-TIME:1
END:VEVENT
BEGIN:VEVENT
DTSTART;TZID=America/New_York:20251208T180000
DTEND;TZID=America/New_York:20251208T210000
UID:C9DFFCFE-E448-48B3-A911-85871C1E5436
SUMMARY:New York City Area Sigma Chi Holiday Brothers Night
CREATED:20251204T235443Z
DTSTAMP:20251204T235443Z
URL:https://newyorkalumni.sigmachi.org/events/nyc-bro-holiday-night-2025
DESCRIPTION:Enjoy the Holidays with your NYC Sigma Chi brothers at our NYC Social Home - midtown location, convenient to all transportation - Grand Central, Penn and Port Authority & many subways.\NNo event cost - cash bar.\NRespond if you plan on attending to poldham405@aol.com
X-ALT-DESC;FMTTYPE=text/html:<p>Enjoy the Holidays with your NYC Sigma Chi brothers at our NYC Social Home - midtown location, convenient to all transportation - Grand Central, Penn and Port Authority &amp; many subways.</p><p>No event cost - cash bar.</p><p>Respond if you plan on attending to <a href="mailto:poldham405@aol.com">poldham405@aol.com</a></p>
LAST-MODIFIED:20251205T000150Z
SEQUENCE:427
LOCATION:8 East 36th Street\, New York\, New York 10016
GEO:40.74920110;-73.98303820
X-LOCATION-DISPLAYNAME:Slattery's Midtown Pub
X-ACCESS:1
X-HITS:0
X-COLOR:00a3e0
X-SHOW-END-TIME:1
END:VEVENT
BEGIN:VEVENT
DTSTART;TZID=America/New_York:20260108T180000
DTEND;TZID=America/New_York:20260108T210000
UID:84CD2E5F-000C-4665-A839-CBE5937D054F
SUMMARY:Welcome Class of 2026 Brothers Night 
CREATED:20251204T235827Z
DTSTAMP:20251204T235827Z
URL:https://newyorkalumni.sigmachi.org/events/welcome-class-of-2026-brothers-night
DESCRIPTION:Graduating seniors and NYC alumni meet to build connections and brotherhood. at our NYC Social Home - midtown location, convenient to all transportation - Grand Central, Pen and Port Authority & many Subways.\NNo event cost.\NRespond if you plan to attend to arcoleburn@gmail.com
X-ALT-DESC;FMTTYPE=text/html:<p>Graduating seniors and NYC alumni meet to build connections and brotherhood. at our NYC Social Home - midtown location, convenient to all transportation - Grand Central, Pen and Port Authority &amp; many Subways.</p><p>No event cost.</p><p>Respond if you plan to attend to <a href="mailto:arcoleburn@gmail.com">arcoleburn@gmail.com</a></p>
LAST-MODIFIED:20251205T000118Z
SEQUENCE:171
LOCATION:8 East 36th Street\, New York\, New York 10016
GEO:40.74920110;-73.98303820
X-LOCATION-DISPLAYNAME:Slattery's Midtown Pub
X-ACCESS:1
X-HITS:0
X-COLOR:00a3e0
X-SHOW-END-TIME:1
END:VEVENT
BEGIN:VEVENT
DTSTART;TZID=America/New_York:20260212T180000
DTEND;TZID=America/New_York:20260212T210000
UID:93B832F3-AD88-4984-B556-176F0770FB51
SUMMARY:February Brothers Night
CREATED:20260117T212110Z
DTSTAMP:20260117T212110Z
URL:https://newyorkalumni.sigmachi.org/events/february-brothers-night
DESCRIPTION:Join your local NYC brothers for our monthly gathering at Slattery's Pub. Reconnect with old friends and make new ones. Free Food. Cash Bar. You'll find it here! \N \NPlease help spread the word and invite any Sigma Chi brothers you know in the NYC area. Forward this page, or this Partiful link: https://partiful.com/e/Fj4PRXTjQK8h3jUTbYK4?source=share&c=eW5AjopJ
X-ALT-DESC;FMTTYPE=text/html:<p>Join your local NYC brothers for our monthly gathering at Slattery's Pub. <br /><br />Reconnect with old friends and make new ones. <br /><br />Free Food. <br /><br />Cash Bar. <br /><br />You'll find it here! <br /><br /></p><p> </p><p>Please help spread the word and invite any Sigma Chi brothers you know in the NYC area. Forward this page, or this Partiful link: <a href="https://partiful.com/e/Fj4PRXTjQK8h3jUTbYK4?source=share&amp;c=eW5AjopJ" target="_self">https://partiful.com/e/Fj4PRXTjQK8h3jUTbYK4?source=share&amp;c=eW5AjopJ</a></p>
LAST-MODIFIED:20260117T213125Z
SEQUENCE:615
LOCATION:8 East 36th Street\, New York\, New York 10016
GEO:40.74920110;-73.98303820
X-LOCATION-DISPLAYNAME:Slattery's Midtown Pub
X-ACCESS:1
X-HITS:0
X-COLOR:00a3e0
X-SHOW-END-TIME:1
END:VEVENT
BEGIN:VEVENT
DTSTART;TZID=America/New_York:20260225T200000
DTEND;TZID=America/New_York:20260225T210000
UID:80CD5C5E-C8BD-4C99-97B2-5E38531FEA38
SUMMARY:SigTalks with Keith Krach
CREATED:20260225T001019Z
DTSTAMP:20260225T001019Z
URL:https://www.youtube.com/watch?v=7mN_o8owGRI
DESCRIPTION:Join the NYC and Washington DC Alumni Chapters for the latest Sig Talk with 64th Grand Consul Keith Krach, PURDUE 1970. Keith Krach has been named CEO of Freedom 250, a national non-partisan organization leading the celebration of the USA's 250th birthday. Freedom 250 is creating a movement of citizens, organizations, companies, and leaders from across the country to honor our nation's proud history and freedoms. Keith's Sig Talk will delve into the key elements of Freedom 250, his leadership in delivering high performance results in private industry and government, and the impact of tech diplomacy on protecting our cherished liberties.
X-ALT-DESC;FMTTYPE=text/html:<p><span>Join the NYC and Washington DC Alumni Chapters for the latest Sig Talk with 64th Grand Consul Keith Krach, PURDUE 1970. Keith Krach has been named CEO of Freedom 250, a national non-partisan organization leading the celebration of the USA's 250th birthday. Freedom 250 is creating a movement of citizens, organizations, companies, and leaders from across the country to honor our nation's proud history and freedoms. Keith's Sig Talk will delve into the key elements of Freedom 250, his leadership in delivering high performance results in private industry and government, and the impact of tech diplomacy on protecting our cherished liberties.</span></p>
LAST-MODIFIED:20260225T001019Z
SEQUENCE:0
X-ACCESS:1
X-HITS:0
X-COLOR:00a3e0
X-SHOW-END-TIME:1
END:VEVENT
BEGIN:VEVENT
DTSTART;TZID=America/New_York:20260305T180000
DTEND;TZID=America/New_York:20260305T210000
UID:F760FFD6-F941-4099-ADFA-ED03F8B21D63
SUMMARY:March Brothers Night
CREATED:20260213T231857Z
DTSTAMP:20260213T231857Z
URL:https://newyorkalumni.sigmachi.org/events/march-brothers-night
DESCRIPTION:Join your local NYC brothers for our monthly gathering at Slattery's Pub. Reconnect with old friends and make new ones. Free Food. Cash Bar. You'll find it here! Please help spread the word and invite any Sigma Chi brothers you know in the NYC area. Forward this page, or this Partiful link: https://partiful.com/e/tAoGXVJaUuiKXilh4cGk?c=cPmiVxpX
X-ALT-DESC;FMTTYPE=text/html:<p><span>Join your local NYC brothers for our monthly gathering at Slattery's Pub. </span><br /><br /><span>Reconnect with old friends and make new ones. </span><br /><br /><span>Free Food. </span><br /><br /><span>Cash Bar. </span><br /><br /><span>You'll find it here! </span><br /><br /><span>Please help spread the word and invite any Sigma Chi brothers you know in the NYC area. Forward this page, or this Partiful link: <a href="https://partiful.com/e/tAoGXVJaUuiKXilh4cGk?c=cPmiVxpX" target="_blank" rel="noopener" data-saferedirecturl="https://www.google.com/url?q=https://partiful.com/e/tAoGXVJaUuiKXilh4cGk?c%3DcPmiVxpX&amp;source=gmail&amp;ust=1771111080823000&amp;usg=AOvVaw0dr3-PNX-2r2aq2ptc4my5">https://partiful.com/e/<wbr />tAoGXVJaUuiKXilh4cGk?c=<wbr />cPmiVxpX</a></span></p>
LAST-MODIFIED:20260213T231857Z
SEQUENCE:0
LOCATION:8 East 36th Street\, New York\, New York 10016
GEO:40.74920110;-73.98303820
X-LOCATION-DISPLAYNAME:Slattery's Midtown Pub
X-ACCESS:1
X-HITS:0
X-COLOR:00a3e0
X-SHOW-END-TIME:1
END:VEVENT
BEGIN:VEVENT
DTSTART;TZID=America/New_York:20260409T180000
DTEND;TZID=America/New_York:20260409T210000
UID:29D338FB-38A2-4B21-8012-BA7D5BC172DD
SUMMARY:April Brothers Night
CREATED:20260325T162756Z
DTSTAMP:20260325T162756Z
URL:https://newyorkalumni.sigmachi.org/events/april-brothers-night
DESCRIPTION:Join your local Sigma Chi Brothers for our monthly gathering at Slattery’s Pub. Reconnect with old friends, and meet some new ones.\NFree food.\NCash bar.\NYou’ll find it here!Partiful link: https://partiful.com/e/LA9N4CsEXx5ckxQrLfF3?c=r8fuxIQm
X-ALT-DESC;FMTTYPE=text/html:<p>Join your local Sigma Chi Brothers for our monthly gathering at Slattery’s Pub. Reconnect with old friends, and meet some new ones.</p><p>Free food.</p><p>Cash bar.</p><p>You’ll find it here!<br /><br />Partiful link: <a href="https://partiful.com/e/LA9N4CsEXx5ckxQrLfF3?c=r8fuxIQm" target="_self">https://partiful.com/e/LA9N4CsEXx5ckxQrLfF3?c=r8fuxIQm</a></p>
LAST-MODIFIED:20260325T162922Z
SEQUENCE:86
LOCATION:8 East 36th Street\, New York\, New York 10016
GEO:40.74920110;-73.98303820
X-LOCATION-DISPLAYNAME:Slattery's Midtown Pub
X-ACCESS:1
X-HITS:0
X-COLOR:00a3e0
X-SHOW-END-TIME:1
END:VEVENT
BEGIN:VEVENT
DTSTART;TZID=America/New_York:20260410T180000
DTEND;TZID=America/New_York:20260411T220000
UID:D4D3CDF9-4DE2-4CB5-92C7-79EA30F0B710
SUMMARY:Hudson Valley Province Conference
CREATED:20260325T164001Z
DTSTAMP:20260325T164001Z
URL:https://newyorkalumni.sigmachi.org/events/hudson-valley-province-conference
DESCRIPTION:The 2026 Hudson Valley Province Conference, hosted by the Iota Kappa Chapter. \NA few highlights of the weekend you can expect:\N \N\N\NTransformational Leader Programming, including True Brotherhood, a Strengths Workshop, and a pilot program of Career Exploration: Finding Your Purpose, will be available. Alumni facilitators from across North America will parachute in to deliver incredible workshops for both our undergraduate and alumni participants. \N\N\N \N\N\NOfficer Training Roundtables and breakouts will occur with current officers and assistants in the following positions: Consul, Pro Consul, Quaestor, Magister, Recruitment Chairman, Risk Manager, Kustos, Tribune, and Philanthropy/Derby Days Chairman.\N \N\N\NCareer & Leadership Panel featuring Sigma Chi Brothers across various industries and professions who have a SIGnificant story to tell on how they advanced through their careers and how Sigma Chi influenced their lives. \N\N\N \N\N\NRitual Peer 2.0 Training is offered by Ritual Master Logan Morrison, WESTERN CAROLINA 2016, where initiated brothers can participate in a fun and engaging deep-dive into the logistics, setup, and performance of our Ritualistic Ceremonies. Our goal is for every chapter in our province not only to be ritually certified, but to have a minimum of four brothers in every chapter certified in 2026 and four more in 2027.\N\N\N \N\N\NSocial Events will be held on Friday and Saturday nights for the undergraduate and alumni brothers in attendance. Come down on Friday night, stay the weekend to network, and have some brotherhood time with brothers across the Hudson Valley.\N\N\NAlumni Registration: https://forms.gle/mYS21xRgPqu8Zp117Undergrad Registration: https://forms.gle/mtzJDHDB1yRuNPAy5Schedule Details: https://docs.google.com/spreadsheets/d/1cRe-bJ3-_ylrl8ofPkpPYBh0EePBU1OvzP7l5rkNB7s/edit?gid=0#gid=0
X-ALT-DESC;FMTTYPE=text/html:<p>The 2026 Hudson Valley Province Conference, hosted by the Iota Kappa Chapter. <br /><br /></p><div>A few highlights of the weekend you can expect:</div><div> </div><ul><li><div role="presentation"><b>Transformational Leader Programming</b>, including True Brotherhood, a Strengths Workshop, and a pilot program of<span> </span><b>Career Exploration: Finding Your Purpose</b>, will be available. Alumni facilitators from across North America will parachute in to deliver incredible workshops for both our undergraduate and alumni participants. </div></li></ul><div> </div><ul><li><div role="presentation"><b>Officer Training Roundtables</b> and breakouts will occur with current officers and assistants in the following positions: Consul, Pro Consul, Quaestor, Magister, Recruitment Chairman, Risk Manager, Kustos, Tribune, and Philanthropy/Derby Days Chairman.</div><div role="presentation"> </div></li><li><div role="presentation"><b>Career &amp; Leadership Panel</b> featuring Sigma Chi Brothers across various industries and professions who have a<span> </span><b>SIG</b>nificant story to tell on how they advanced through their careers and how Sigma Chi influenced their lives. </div></li></ul><div> </div><ul><li><div role="presentation"><b>Ritual Peer 2.0 Training<span> </span></b>is offered by Ritual Master Logan Morrison,<span> </span><b>WESTERN CAROLINA 2016</b>, where initiated brothers can participate in a fun and engaging deep-dive into the logistics, setup, and performance of our Ritualistic Ceremonies. Our goal is for every chapter in our<span> </span><span class="il">province</span><span> </span>not only to be ritually certified, but to have a minimum of four brothers in every chapter certified in 2026 and four more in 2027.</div></li></ul><div> </div><ul><li><div role="presentation"><b>Social Events</b> will be held on<span> </span><b>Friday</b><span> </span><b>and Saturday</b><i><span> </span></i>nights for the undergraduate and alumni brothers in attendance. Come down on Friday night, stay the weekend to network, and have some brotherhood time with brothers across the Hudson Valley.</div></li></ul><p><br />Alumni Registration: <a href="https://forms.gle/mYS21xRgPqu8Zp117" target="_self">https://forms.gle/mYS21xRgPqu8Zp117</a><br /><br />Undergrad Registration: <a href="https://forms.gle/mtzJDHDB1yRuNPAy5" target="_self">https://forms.gle/mtzJDHDB1yRuNPAy5</a><br /><br />Schedule Details: <a href="https://docs.google.com/spreadsheets/d/1cRe-bJ3-_ylrl8ofPkpPYBh0EePBU1OvzP7l5rkNB7s/edit?gid=0#gid=0" target="_self">https://docs.google.com/spreadsheets/d/1cRe-bJ3-_ylrl8ofPkpPYBh0EePBU1OvzP7l5rkNB7s/edit?gid=0#gid=0</a></p>
LAST-MODIFIED:20260325T164001Z
SEQUENCE:0
X-ACCESS:1
X-HITS:0
X-COLOR:00a3e0
X-SHOW-END-TIME:1
END:VEVENT
BEGIN:VEVENT
DTSTART;TZID=America/New_York:20260427T200000
DTEND;TZID=America/New_York:20260427T210000
UID:35F5DA88-200C-4F15-A6CE-224C1741D405
SUMMARY:Alumni Chapter Virtual Meeting and Networking
CREATED:20260325T170446Z
DTSTAMP:20260325T170446Z
URL:https://newyorkalumni.sigmachi.org/events/alumni-chapter-virtual-meeting-and-networking
DESCRIPTION:Join us for our monthly chapter meeting and virtual networking.
X-ALT-DESC;FMTTYPE=text/html:<p>Join us for our monthly chapter meeting and virtual networking.</p>
LAST-MODIFIED:20260325T170446Z
SEQUENCE:0
X-ACCESS:1
X-HITS:0
X-COLOR:00a3e0
X-SHOW-END-TIME:1
END:VEVENT
BEGIN:VEVENT
DTSTART;TZID=America/New_York:20260514T180000
DTEND;TZID=America/New_York:20260514T210000
UID:7D0BEA78-1031-4C82-8987-95C42EAC053E
SUMMARY:May Brothers Night
CREATED:20260325T162756Z
DTSTAMP:20260325T162756Z
URL:https://newyorkalumni.sigmachi.org/events/may-brothers-night
DESCRIPTION:Join your local Sigma Chi Brothers for our monthly gathering at Slattery’s Pub. Reconnect with old friends, and meet some new ones.\NFree food.\NCash bar.\NYou’ll find it here!
X-ALT-DESC;FMTTYPE=text/html:<p>Join your local Sigma Chi Brothers for our monthly gathering at Slattery’s Pub. Reconnect with old friends, and meet some new ones.</p><p>Free food.</p><p>Cash bar.</p><p>You’ll find it here!<br /><br /><br /></p>
LAST-MODIFIED:20260325T164744Z
SEQUENCE:1188
LOCATION:8 East 36th Street\, New York\, New York 10016
GEO:40.74920110;-73.98303820
X-LOCATION-DISPLAYNAME:Slattery's Midtown Pub
X-ACCESS:1
X-HITS:0
X-COLOR:00a3e0
X-SHOW-END-TIME:1
END:VEVENT
BEGIN:VEVENT
DTSTART;TZID=America/New_York:20260611T180000
DTEND;TZID=America/New_York:20260611T210000
UID:FCCABEDA-2B6D-409F-96E4-9699197DC0F8
SUMMARY:Welcome New Grads: June Brothers Night
CREATED:20260325T165707Z
DTSTAMP:20260325T165707Z
URL:https://newyorkalumni.sigmachi.org/events/welcome-new-grads-june-brothers-night
DESCRIPTION:Class of 2026, congratulations on successfully graduating, and welcome to the NYC Alumni Chapter! Join us at Slattery's Pub--our social home in NYC--  for a special Brothers Night to welcome you the Alumni Chapter. Come meet brothers young and old from chapters across the country, network, and find out what the Alumni Chapter has to offer and how you can stay involved in Sigma Chi as an Alum. Alumni, let's make sure to show up in force and show our young alumni brothers what the NYCAC is all about! Partiful link: https://partiful.com/e/uDCddsVyMmRyl90qM8Gg
X-ALT-DESC;FMTTYPE=text/html:<p>Class of 2026, congratulations on successfully graduating, and welcome to the NYC Alumni Chapter! <br /><br />Join us at Slattery's Pub--our social home in NYC--  for a special Brothers Night to welcome you the Alumni Chapter. <br /><br />Come meet brothers young and old from chapters across the country, network, and find out what the Alumni Chapter has to offer and how you can stay involved in Sigma Chi as an Alum. <br /><br />Alumni, let's make sure to show up in force and show our young alumni brothers what the NYCAC is all about! <br /><br />Partiful link: <a href="https://partiful.com/e/uDCddsVyMmRyl90qM8Gg" target="_self">https://partiful.com/e/uDCddsVyMmRyl90qM8Gg</a></p>
LAST-MODIFIED:20260420T160504Z
SEQUENCE:2243277
LOCATION:8 East 36th Street\, New York\, New York 10016
GEO:40.74920110;-73.98303820
X-LOCATION-DISPLAYNAME:Slattery's Midtown Pub
X-ACCESS:1
X-HITS:0
X-COLOR:00a3e0
X-SHOW-END-TIME:1
END:VEVENT
END:VCALENDAR